Workbook
Name REPRESENTANTE_SRI: #REF!

Sheet Ene 2026
A1: SERVICIO DE RENTAS INTERNAS
A2: RECAUDACIÓN NACIONAL(1)
A3: ENERO 2026
A4: -cifras en miles de dólares-
A6: (A) TOTAL RECAUDADO (SIN CONSIDERAR VALORES OCASIONALES PARA EFECTOS DE COMPARACIÓN INTERANUAL)
D8: Meta 2026 (10) | F8: Recaudación 2025 | G8: Recaudación 2026 | I8: Participación de la Recaudación 2026
A10: CLASIFICACIÓN | B10: INTERNOS | C10: Impuesto a la Renta Recaudado | D10: =D95 -> 755783.99 | F10: =F95-F58 -> 615896.69 | G10: =G95-G58 -> 755783.99 | I10: =+G32/G41 -> 0.88539228
C11: Retenciones Mensuales (2) | D11: =D96 -> 507762.84 | F11: =F96-F59 -> 398642.18 | G11: =G96-G59 -> 507762.84
C12: Autorretenciones | D12: =D97 -> 223982.22 | F12: =F97-F60 -> 196092.66 | G12: =G97 -> 223982.22
C13: Utilidades no distribuidas(9) | D13: =D98 -> 1684 | E13: =E98 -> 0 | F13: =F98 -> 0 | G13: =G98 -> 1684
C14: Anticipos al IR | D14: =D99 -> 8.04214 | F14: =F99-F60 -> 25.58103 | G14: =G99-G60 -> 8.04214
C15: Declaraciones de Impuesto a la Renta (3) | D15: =D100 -> 22346.885 | F15: =F100-F61 -> 21136.271 | G15: =G100-G61 -> 22346.885
C16: Personas Naturales | D16: =D101 -> 5429.6212 | F16: =F101-F62 -> 5297.6633 | G16: =G101-G62 -> 5429.6212
C17: Personas Jurídicas | D17: =D102 -> 15028.979 | F17: =F102-F63 -> 11790.909 | G17: =G102-G63 -> 15028.979
C18: Herencias, Legados y Donaciones | D18: =D103 -> 1839.5778 | F18: =F103-F64 -> 3989.8481 | G18: =G103-G64 -> 1839.5778
C19: Microempresas | D19: =D104 -> 48.70727 | F19: =F104-F65 -> 57.84994 | G19: =G104-G65 -> 48.70727
C20: Regularización de Activos en el Exterior | D20: =D105 -> 0 | F20: =F105-F66 -> 0 | G20: =G105-G66 -> 0
C21: IVA Operaciones Internas | D21: =D106 -> 1009190 | F21: =F106-F67 -> 895270.58 | G21: =G106-G67 -> 1009190
C22: ICE Operaciones Internas | D22: =D107 -> 74233.646 | F22: =F107-F68 -> 70777.31 | G22: =G107-G68 -> 74233.646
C23: Impuesto Redimible Botellas Plásticas no Retornable | D23: =D108 -> 3872.8801 | F23: =F108-F69 -> 3870.2356 | G23: =G108-G69 -> 3872.8801
C24: Impuesto a los Vehículos Motorizados | D24: =D109 -> 22542.466 | F24: =F109-F70 -> 19913.834 | G24: =G109-G70 -> 22542.466
C25: Impuesto a la Salida de Divisas | D25: =D110 -> 136589.31 | F25: =F110-F71 -> 146844.34 | G25: =G110-G71 -> 136589.31
... C28: Contribución para la atención integral del cancer | D28: =D113 -> 18106.534 | F28: =F113-F74 -> 17404.975 | G28: =G113-G74 -> 18106.534
C29: Intereses por Mora Tributaria | D29: =D114 -> 3112.6788 | F29: =F114-F77 -> 4838.7098 | G29: =G114-G77 -> 3112.6788
C30: Multas Tributarias Fiscales | D30: =D115 -> 5183.583 | F30: =F115-F78 -> 4305.8564 | G30: =G115-G78 -> 5183.583
C31: Otros Ingresos(4) | D31: =D116 -> 1437.3674 | F31: =F116-F79 -> 2005.2757 | G31: =G116-G79 -> 1437.365
C32: (a) SUBTOTAL INTERNOS | D32: =+D10+SUM(D21:D31) -> 2035255.3 | F32: =+F10+SUM(F21:F31) -> 1783400.6 | G32: =+G10+SUM(G21:G31) -> 2035255.3
B34: IMPORTACIONES | C34: IVA Importaciones | D34: =D119 -> 241216.43 | F34: =F119-F82 -> 212376.91 | G34: =G119-G82 -> 241216.43 | I34: =+G36/G41 -> 0.11460772
C35: ICE Importaciones | D35: =D120 -> 22232.865 | F35: =F120-F83 -> 19332.198 | G35: =G120-G83 -> 22232.865
C36: (b) SUBTOTAL IMPORTACIONES | D36: =SUM(D34:D35) -> 263449.29 | F36: =SUM(F34:F35) -> 231709.11 | G36: =SUM(G34:G35) -> 263449.29
B38: DIRECTOS | D38: =D41-D39 -> 947958.79 | F38: =F41-F39 -> 813482.44 | G38: =G41-G39 -> 947958.79 | I38: =+G38/$G$41 -> 0.41238826
B39: INDIRECTOS | D39: =+D21+D22+D23+D36 -> 1350745.8 | F39: =+F21+F22+F23+F36 -> 1201627.2 | G39: =+G21+G22+G23+G36 -> 1350745.8 | I39: =+G39/$G$41 -> 0.58761174
A41: TOTALES | B41: (c=a+b) RECAUDACIÓN BRUTA (5) | D41: =+D32+D36 -> 2298704.6 | F41: =+F32+F36 -> 2015109.7 | G41: =+G32+G36 -> 2298704.6 | I41: =G41+G52-G130 -> 0
B42: (d) Notas de Crédito | F42: 148742.05 | G42: =G131 -> 413985.18 | I42: =F41+F52-F130 -> 0
B43: (e) Compensaciones | F43: 5460.1325 | G43: =G132 -> 7203.3787 | I43: =D41+G52-D130 -> 0
B44: (f=c-d-e) RECAUDACIÓN EN EFECTIVO (6) | D44: =+D41 -> 2298704.6 | F44: =+F41-F42-F43 -> 1860907.5 | G44: =G41-G42-G43 -> 1877516
B45: (g) Devoluciones (7) | F45: 40858.032 | G45: =G134 -> 17718.743
B46: (h=f-g) RECAUCIÓN NETA (SIN CONSIDERAR VALORES OCASIONALES PARA EFECTOS DE COMPARACIÓN INTERANUAL)(8) | D46: =+D44 -> 2298704.6 | F46: =+F44-F45 -> 1820049.5 | G46: =+G44-G45 -> 1859797.3
A48: (B) VALORES OCASIONALES (NO CONSIDERADOS PARA EFECTOS DE COMPARACIÓN INTERANUAL)
F50: =+F8 -> Recaudación 2025 | G50: =+G8 -> Recaudación 2026
...

Sheet Feb 2026
A1: SERVICIO DE RENTAS INTERNAS
A2: RECAUDACIÓN NACIONAL(1)
A3: FEBRERO 2026
A4: -cifras en miles de dólares-
A6: (A) TOTAL RECAUDADO (SIN CONSIDERAR VALORES OCASIONALES PARA EFECTOS DE COMPARACIÓN INTERANUAL)
D8: Meta 2026 (11) | F8: Recaudación 2025 | G8: Recaudación 2026 | I8: Participación de la Recaudación 2026
A10: CLASIFICACIÓN | B10: INTERNOS | C10: Impuesto a la Renta Recaudado | D10: =D95 -> 423765.99 | F10: =F95-F58 -> 378883.58 | G10: =G95-G58 -> 423765.99 | I10: =+G32/G41 -> 0.83062699
C11: Retenciones Mensuales (2) | D11: =D96 -> 215291.89 | F11: =F96-F59 -> 195684.58 | G11: =G96-G59 -> 215291.89
C12: Autorretenciones | D12: =D97 -> 186463 | F12: =F97 -> 163850.84 | G12: =G97 -> 186463
C13: Utilidades no distribuidas(9) | D13: =D98 -> 1705.2692 | F13: =F98 -> 0 | G13: =G98 -> 1705.2692
C14: Anticipos al IR | D14: =D99 -> 32.5616 | F14: =F99-F60 -> 60.41808 | G14: =G99-G60 -> 32.5616
C15: Declaraciones de Impuesto a la Renta (3) | D15: =D100 -> 20273.274 | F15: =F100-F61 -> 19287.741 | G15: =G100-G61 -> 20273.274
C16: Personas Naturales | D16: =D101 -> 9316.6534 | F16: =F101-F62 -> 9562.2588 | G16: =G101-G62 -> 9316.6534
C17: Personas Jurídicas | D17: =D102 -> 9638.4632 | F17: =F102-F63 -> 8059.1954 | G17: =G102-G63 -> 9638.4632
C18: Herencias, Legados y Donaciones | D18: =D103 -> 1273.0759 | F18: =F103-F64 -> 1604.7676 | G18: =G103-G64 -> 1273.0759
C19: Microempresas | D19: =D104 -> 45.08123 | F19: =F104-F65 -> 61.51936 | G19: =G104-G65 -> 45.08123
C20: Regularización de Activos en el Exterior | D20: =D105 -> 0 | F20: =F105-F66 -> 0 | G20: =G105-G66 -> 0
C21: IVA Operaciones Internas | D21: =D106 -> 668175.51 | F21: =F106-F67 -> 570251.67 | G21: =G106-G67 -> 668175.51
C22: ICE Operaciones Internas | D22: =D107 -> 47660.356 | F22: =F107-F68 -> 40464.857 | G22: =G107-G68 -> 47660.356
C23: Impuesto Redimible Botellas Plásticas no Retornable | D23: =D108 -> 4143.5442 | F23: =F108-F69 -> 3830.5666 | G23: =G108-G69 -> 4143.5442
C24: Impuesto a los Vehículos Motorizados | D24: =D109 -> 18197.986 | F24: =F109-F70 -> 30227.229 | G24: =G109-G70 -> 18197.986
C25: Impuesto a la Salida de Divisas | D25: =D110 -> 108162.8 | F25: =F110-F71 -> 90747.415 | G25: =G110-G71 -> 108162.8
... C28: Contribución para la atención integral del cancer | D28: =D113 -> 20115.383 | F28: =F113-F74 -> 20740.511 | G28: =G113-G74 -> 20115.383
C29: Intereses por Mora Tributaria | D29: =D114 -> 2844.2517 | F29: =F114-F77 -> 4254.4653 | G29: =G114-G77 -> 2844.2517
C30: Multas Tributarias Fiscales | D30: =D115 -> 5301.5448 | F30: =F115-F78 -> 4391.3985 | G30: =G115-G78 -> 5301.5448
C31: Otros Ingresos(4) | D31: =D116 -> 1817.2706 | F31: =F116-F79 -> 2175.3783 | G31: =G116-G79 -> 1817.2667
C32: (a) SUBTOTAL INTERNOS | D32: =+D10+SUM(D21:D31) -> 1303941.7 | F32: =+F10+SUM(F21:F31) -> 1150818.8 | G32: =+G10+SUM(G21:G31) -> 1303941.7
B34: IMPORTACIONES | C34: IVA Importaciones | D34: =D119 -> 243626.3 | F34: =F119-F82 -> 194258.27 | G34: =G119-G82 -> 243626.3 | I34: =+G36/G41 -> 0.16937301
C35: ICE Importaciones | D35: =D120 -> 22260.247 | F35: =F120-F83 -> 15691.188 | G35: =G120-G83 -> 22260.247
C36: (b) SUBTOTAL IMPORTACIONES | D36: =SUM(D34:D35) -> 265886.54 | F36: =SUM(F34:F35) -> 209949.46 | G36: =SUM(G34:G35) -> 265886.54
B38: DIRECTOS | D38: =D41-D39 -> 583962.31 | F38: =F41-F39 -> 536271.7 | G38: =G41-G39 -> 583962.31 | I38: =+G38/$G$41 -> 0.37199121
B39: INDIRECTOS | D39: =+D21+D22+D23+D36 -> 985865.95 | F39: =+F21+F22+F23+F36 -> 824496.55 | G39: =+G21+G22+G23+G36 -> 985865.95 | I39: =+G39/$G$41 -> 0.62800879
A41: TOTALES | B41: (c=a+b) RECAUDACIÓN BRUTA (5) | D41: =+D36+D32 -> 1569828.3 | F41: =+F32+F36 -> 1360768.3 | G41: =+G32+G36 -> 1569828.3 | I41: =G41+G52-G130 -> 0
B42: (d) Notas de Crédito | F42: =F131 -> 194247.61 | G42: =G131 -> 319197.77 | I42: =F41+F52-F130 -> 0
B43: (e) Compensaciones | F43: =F132 -> 4445.4132 | G43: =G132 -> 4862.2833 | I43: =D41+G52-D130 -> 0
B44: (f=c-d-e) RECAUDACIÓN EN EFECTIVO (6) | F44: =+F41-F42-F43 -> 1162075.2 | G44: =+G41-G42-G43 -> 1245768.2
B45: (g) Devoluciones (7) | F45: =F134 -> 76846.387 | G45: =G134 -> 24432.39
B46: (h=f-g) RECAUCIÓN NETA (SIN CONSIDERAR VALORES OCASIONALES PARA EFECTOS DE COMPARACIÓN INTERANUAL)(8) | F46: =+F44-F45 -> 1085228.8 | G46: =+G44-G45 -> 1221335.8
A48: (B) VALORES OCASIONALES (NO CONSIDERADOS PARA EFECTOS DE COMPARACIÓN INTERANUAL)
F50: =+F8 -> Recaudación 2025 | G50: =+G8 -> Recaudación 2026
...

Sheet Mar 2026
A1: SERVICIO DE RENTAS INTERNAS
A2: RECAUDACIÓN NACIONAL(1)
A3: MARZO 2026
A4: -cifras en miles de dólares-
A6: (A) TOTAL RECAUDADO (SIN CONSIDERAR VALORES OCASIONALES PARA EFECTOS DE COMPARACIÓN INTERANUAL)
D8: Meta 2026 (11) | F8: Recaudación 2025 | G8: Recaudación 2026 | I8: Participación de la Recaudación 2026
A10: CLASIFICACIÓN | B10: INTERNOS | C10: Impuesto a la Renta Recaudado | D10: =D11+D14+D15+D12+D13 -> 666522.01 | F10: =F11+F14+F15+F12+F13 -> 587059.19 | G10: =G11+G14+G15+G12+G13 -> 666522.01 | I10: =+G32/G41 -> 0.85725167
C11: Retenciones Mensuales (2) | D11: =D96-D59 -> 280296.6 | F11: =F96-F59 -> 252064.6 | G11: =G96-G59 -> 280296.6
C12: Autorretenciones | D12: =D97 -> 168913.63 | F12: =F97 -> 154797.41 | G12: =G97 -> 168913.63
C13: Utilidades no distribuidas(9) | D13: =D98 -> 680.22366 | F13: =F98 -> 0 | G13: =G98 -> 680.22366
C14: Anticipos al IR | D14: =D99-D60 -> 15.50237 | F14: =F99-F60 -> 45.88993 | G14: =G99-G60 -> 15.50237
C15: Declaraciones de Impuesto a la Renta (3) | D15: =SUM(D16:D20) -> 216616.05 | F15: =SUM(F16:F20) -> 180151.29 | G15: =SUM(G16:G20) -> 216616.05
C16: Personas Naturales | D16: =D101-D62 -> 179058.44 | F16: =F101-F62 -> 149963.66 | G16: =G101-G62 -> 179058.44
C17: Personas Jurídicas | D17: =D102-D63 -> 35228.998 | F17: =F102-F63 -> 28219.493 | G17: =G102-G63 -> 35228.998
C18: Herencias, Legados y Donaciones | D18: =D103-D64 -> 2287.376 | F18: =F103-F64 -> 1886.5748 | G18: =G103-G64 -> 2287.376
C19: Microempresas | D19: =D104-D65 -> 41.23764 | F19: =F104-F65 -> 81.55537 | G19: =G104-G65 -> 41.23764
C20: Regularización de Activos en el Exterior | D20: =D105-D66 -> 0 | F20: =F105-F66 -> 0 | G20: =G105-G66 -> 0
C21: IVA Operaciones Internas | D21: =D106-D67 -> 665012.24 | F21: =F106-F67 -> 591240.11 | G21: =G106-G67 -> 665012.24
C22: ICE Operaciones Internas | D22: =D107-D68 -> 37212.961 | F22: =F107-F68 -> 39171.992 | G22: =G107-G68 -> 37212.961
C23: Impuesto Redimible Botellas Plásticas no Retornable | D23: =D108-D69 -> 3739.6579 | F23: =F108-F69 -> 3645.1931 | G23: =G108-G69 -> 3739.6579
C24: Impuesto a los Vehículos Motorizados | D24: =D109-D70 -> 30626.807 | F24: =F109-F70 -> 26149.302 | G24: =G109-G70 -> 30626.807
C25: Impuesto a la Salida de Divisas | D25: =D110-D71 -> 100118.58 | F25: =F110-F71 -> 84116.905 | G25: =G110-G71 -> 100118.58
C26: Impuesto Activos en el Exterior | D26: =D111-D72 -> 2819.46 | F26: =F111-F72 -> 2333.7318 | G26: =G111-G72 -> 2819.46
C27: Regalías, patentes y utilidades de conservación minera | D27: =D112-D73 -> 137886.76 | F27: =F112-F73 -> 119106.9 | G27: =G112-G73 -> 137886.76
C28: Contribución para la atención integral del cancer | D28: =D113-D74 -> 25311.481 | F28: =F113-F74 -> 20252.494 | G28: =G113-G74 -> 25311.481
C29: Intereses por Mora Tributaria | D29: =D114-D77 -> 4470.4289 | F29: =F114-F77 -> 4175.5817 | G29: =G114-G77 -> 4470.4289
C30: Multas Tributarias Fiscales | D30: =D115-D78 -> 7290.3373 | F30: =F115-F78 -> 4798.6206 | G30: =G115-G78 -> 7290.3373
C31: Otros Ingresos(4) | D31: =D116-D79-D76-D75 -> 2397.8211 | F31: =F116-F79-F76-F75 -> 1668.8056 | G31: =G116-G79-G76-G75 -> 2397.8216
C32: (a) SUBTOTAL INTERNOS | D32: =+D10+SUM(D21:D31) -> 1683408.5 | F32: =+F10+SUM(F21:F31) -> 1483718.8 | G32: =+G10+SUM(G21:G31) -> 1683408.5
B34: IMPORTACIONES | C34: IVA Importaciones | D34: =D119 -> 260756.71 | F34: =F119-F82 -> 195569.56 | G34: =G119-G82 -> 260756.71 | I34: =+G36/G41 -> 0.14274833
C35: ICE Importaciones | D35: =D120 -> 19562.083 | F35: =F120-F83 -> 16409.116 | G35: =G120-G83 -> 19562.083
C36: (b) SUBTOTAL IMPORTACIONES | D36: =SUM(D34:D35) -> 280318.79 | F36: =SUM(F34:F35) -> 211978.68 | G36: =SUM(G34:G35) -> 280318.79
B38: DIRECTOS | D38: =D41-D39 -> 977443.69 | F38: =F41-F39 -> 849661.53 | G38: =G41-G39 -> 977443.69 | I38: =+G38/$G$41 -> 0.49774919
B39: INDIRECTOS | D39: =+D21+D22+D23+D36 -> 986283.64 | F39: =+F21+F22+F23+F36 -> 846035.97 | G39: =+G21+G22+G23+G36 -> 986283.64 | I39: =+G39/$G$41 -> 0.50225081
A41: TOTALES | B41: (c=a+b) RECAUDACIÓN BRUTA (5) | D41: =+D32+D36 -> 1963727.3 | F41: =+F32+F36 -> 1695697.5 | G41: =+G32+G36 -> 1963727.3 | I41: =G41+G52-G130 -> 0
B42: (d) Notas de Crédito | F42: =F131 -> 219210.66 | G42: =G131 -> 275382.91 | I42: =F41+F52-F130 -> 0
B43: (e) Compensaciones | F43: =F132 -> 4550.3843 | G43: =G132 -> 4571.8758 | I43: =D41+G52-D130 -> 0
B44: (f=c-d-e) RECAUDACIÓN EN EFECTIVO (6) | D44: =+D41 -> 1963727.3 | F44: =+F41-F42-F43 -> 1471936.5 | G44: =+G41-G42-G43 -> 1683772.5
B45: (g) Devoluciones (7) | F45: =F134 -> 35391.832 | G45: =G134 -> 56394.946
B46: (h=f-g) RECAUCIÓN NETA (SIN CONSIDERAR VALORES OCASIONALES PARA EFECTOS DE COMPARACIÓN INTERANUAL)(8) | D46: =+D44 -> 1963727.3 | F46: =+F44-F45 -> 1436544.6 | G46: =+G44-G45 -> 1627377.6
...

Sheet Abr 2026
A1: SERVICIO DE RENTAS INTERNAS
A2: RECAUDACIÓN NACIONAL(1)
A3: ABRIL 2026
A4: -cifras en miles de dólares-
A6: (A) TOTAL RECAUDADO (SIN CONSIDERAR VALORES OCASIONALES PARA EFECTOS DE COMPARACIÓN INTERANUAL)
D8: Meta 2026 (11) | F8: Recaudación 2025 | G8: Recaudación 2026 | I8: Participación de la Recaudación 2026
A10: CLASIFICACIÓN | B10: INTERNOS | C10: Impuesto a la Renta Recaudado | D10: =D11+D14+D15+D12+D13 -> 1277266.7 | F10: =F11+F14+F15+F12+F13 -> 1026485.7 | G10: =G11+G14+G15+G12+G13 -> 1277266.7 | I10: =+G32/G41 -> 0.90084924
C11: Retenciones Mensuales (2) | D11: =D96-D59 -> 364119.13 | F11: =F96-F59 -> 278050.55 | G11: =G96-G59 -> 364119.13
C12: Autorretenciones | D12: =D97 -> 204255.13 | F12: =F97 -> 171904.66 | G12: =G97 -> 204255.13
C13: Utilidades no distribuidas(9) | D13: =D98 -> 4388.0688 | F13: =F98 -> 0 | G13: =G98 -> 4388.0688
C14: Anticipos al IR | D14: =D99-D60 -> 12.95021 | F14: =F99-F60 -> 21.15933 | G14: =G99-G60 -> 12.95021
C15: Declaraciones de Impuesto a la Renta (3) | D15: =SUM(D16:D20) -> 704491.42 | F15: =SUM(F16:F20) -> 576509.31 | G15: =SUM(G16:G20) -> 704491.42
C16: Personas Naturales | D16: =D101-D62 -> 21331.466 | F16: =F101-F62 -> 20022.775 | G16: =G101-G62 -> 21331.466
C17: Personas Jurídicas | D17: =D102-D63 -> 681177 | F17: =F102-F63 -> 554594.77 | G17: =G102-G63 -> 681177
C18: Herencias, Legados y Donaciones | D18: =D103-D64 -> 1932.1543 | F18: =F103-F64 -> 1804.9009 | G18: =G103-G64 -> 1932.1543
C19: Microempresas | D19: =D104-D65 -> 50.7955 | F19: =F104-F65 -> 86.86726 | G19: =G104-G65 -> 50.7955
C20: Regularización de Activos en el Exterior | D20: =D105-D66 -> 0 | F20: =F105-F66 -> 0 | G20: =G105-G66 -> 0
C21: IVA Operaciones Internas | D21: =D106-D67 -> 724730.64 | F21: =F106-F67 -> 682283.44 | G21: =G106-G67 -> 724730.64
C22: ICE Operaciones Internas | D22: =D107-D68 -> 42702.742 | F22: =F107-F68 -> 39877.139 | G22: =G107-G68 -> 42702.742
C23: Impuesto Redimible Botellas Plásticas no Retornable | D23: =D108-D69 -> 3688.2292 | F23: =F108-F69 -> 3234.5741 | G23: =G108-G69 -> 3688.2292
C24: Impuesto a los Vehículos Motorizados | D24: =D109-D70 -> 28476.442 | F24: =F109-F70 -> 26310.598 | G24: =G109-G70 -> 28476.442
C25: Impuesto a la Salida de Divisas | D25: =D110-D71 -> 127756.4 | F25: =F110-F71 -> 86944.067 | G25: =G110-G71 -> 127756.4
C26: Impuesto Activos en el Exterior | D26: =D111-D72 -> 2467.4077 | F26: =F111-F72 -> 2379.7397 | G26: =G111-G72 -> 2467.4077
C27: Regalías, patentes y utilidades de conservación minera | D27: =D112-D73 -> 270851.37 | F27: =F112-F73 -> 93786.125 | G27: =G112-G73 -> 270851.37
C28: Contribución para la atención integral del cancer | D28: =D113-D74 -> 22016.42 | F28: =F113-F74 -> 21080.212 | G28: =G113-G74 -> 22016.42
C29: Intereses por Mora Tributaria | D29: =D114-D77 -> 3924.5778 | F29: =F114-F77 -> 4903.1628 | G29: =G114-G77 -> 3924.5778
C30: Multas Tributarias Fiscales | D30: =D115-D78 -> 6626.65 | F30: =F115-F78 -> 4689.3651 | G30: =G115-G78 -> 6626.65
C31: Otros Ingresos(4) | D31: =D116-D79-D76-D75 -> 1532.486 | F31: =F116-F79-F76-F75 -> 1961.4701 | G31: =G116-G79-G76-G75 -> 1532.4871
C32: (a) SUBTOTAL INTERNOS | D32: =+D10+SUM(D21:D31) -> 2512040.1 | F32: =+F10+SUM(F21:F31) -> 1993935.6 | G32: =+G10+SUM(G21:G31) -> 2512040.1
B34: IMPORTACIONES | C34: IVA Importaciones | D34: =D119 -> 254854.9 | F34: =F119-F82 -> 207566.23 | G34: =G119-G82 -> 254854.9 | I34: =+G36/G41 -> 0.099150762
C35: ICE Importaciones | D35: =D120 -> 21629.416 | F35: =F120-F83 -> 18290.93 | G35: =G120-G83 -> 21629.416
C36: (b) SUBTOTAL IMPORTACIONES | D36: =SUM(D34:D35) -> 276484.32 | F36: =SUM(F34:F35) -> 225857.16 | G36: =SUM(G34:G35) -> 276484.32
B38: DIRECTOS | D38: =D41-D39 -> 1740918.5 | F38: =F41-F39 -> 1268540.4 | G38: =G41-G39 -> 1740918.5 | I38: =+G38/$G$41 -> 0.62431531
B39: INDIRECTOS | D39: =+D21+D22+D23+D36 -> 1047605.9 | F39: =+F21+F22+F23+F36 -> 951252.31 | G39: =+G21+G22+G23+G36 -> 1047605.9 | I39: =+G39/$G$41 -> 0.37568469
A41: TOTALES | B41: (c=a+b) RECAUDACIÓN BRUTA (5) | D41: =+D32+D36 -> 2788524.4 | F41: =+F32+F36 -> 2219792.7 | G41: =+G32+G36 -> 2788524.4 | I41: =G41+G52-G130 -> 0
B42: (d) Notas de Crédito | F42: =F131 -> 224932.3 | G42: =G131 -> 335040.24 | I42: =F41+F52-F130 -> 0
B43: (e) Compensaciones | F43: =F132 -> 6146.6754 | G43: =G132 -> 4647.801 | I43: =D41+G52-D130 -> 0
B44: (f=c-d-e) RECAUDACIÓN EN EFECTIVO (6) | D44: =+D41 -> 2788524.4 | F44: =+F41-F42-F43 -> 1988713.8 | G44: =+G41-G42-G43 -> 2448836.3
B45: (g) Devoluciones (7) | F45: =F134 -> 29970.463 | G45: =G134 -> 35951.745
B46: (h=f-g) RECAUCIÓN NETA (SIN CONSIDERAR VALORES OCASIONALES PARA EFECTOS DE COMPARACIÓN INTERANUAL)(8) | D46: =+D44 -> 2788524.4 | F46: =+F44-F45 -> 1958743.3 | G46: =+G44-G45 -> 2412884.6
...

Sheet May 2026
A1: SERVICIO DE RENTAS INTERNAS
A2: RECAUDACIÓN NACIONAL(1)
A3: MAYO 2026
A4: -cifras en miles de dólares-
A6: (A) TOTAL RECAUDADO (SIN CONSIDERAR VALORES OCASIONALES PARA EFECTOS DE COMPARACIÓN INTERANUAL)
D8: Meta 2026 (11) | F8: Recaudación 2025 | G8: Recaudación 2026 | I8: Participación de la Recaudación 2026
A10: CLASIFICACIÓN | B10: INTERNOS | C10: Impuesto a la Renta Recaudado | D10: =D11+D14+D15+D12+D13 -> 628916.63 | F10: =F11+F14+F15+F12+F13 -> 543784.2 | G10: =G11+G14+G15+G12+G13 -> 628916.63 | I10: =+G32/G41 -> 0.84429243
C11: Retenciones Mensuales (2) | D11: =D96-D59 -> 386585.43 | F11: =F96-F59 -> 321789.4 | G11: =G96-G59 -> 386585.43
C12: Autorretenciones | D12: =D97 -> 187297.76 | F12: =F97 -> 170818.78 | G12: =G97 -> 187297.76
C13: Utilidades no distribuidas(9) | D13: =D98 -> 4202.4928 | F13: =F98 -> 0 | G13: =G98 -> 4202.4928
C14: Anticipos al IR | D14: =D99-D60 -> 26.00038 | F14: =F99-F60 -> 82.08596 | G14: =G99-G60 -> 26.00038
C15: Declaraciones de Impuesto a la Renta (3) | D15: =SUM(D16:D20) -> 50804.949 | F15: =SUM(F16:F20) -> 51093.936 | G15: =SUM(G16:G20) -> 50804.949
C16: Personas Naturales | D16: =D101-D62 -> 13613.264 | F16: =F101-F62 -> 22810.612 | G16: =G101-G62 -> 13613.264
C17: Personas Jurídicas | D17: =D102-D63 -> 34569.485 | F17: =F102-F63 -> 26409.382 | G17: =G102-G63 -> 34569.485
C18: Herencias, Legados y Donaciones | D18: =D103-D64 -> 2572.8275 | F18: =F103-F64 -> 1803.4065 | G18: =G103-G64 -> 2572.8275
C19: Microempresas | D19: =D104-D65 -> 49.37298 | F19: =F104-F65 -> 70.5351 | G19: =G104-G65 -> 49.37298
C20: Regularización de Activos en el Exterior | D20: =D105-D66 -> 0 | F20: =F105-F66 -> 0 | G20: =G105-G66 -> 0
C21: IVA Operaciones Internas | D21: =D106-D67 -> 727783.2 | F21: =F106-F67 -> 655139.56 | G21: =G106-G67 -> 727783.2
C22: ICE Operaciones Internas | D22: =D107-D68 -> 45608.532 | F22: =F107-F68 -> 39735.324 | G22: =G107-G68 -> 45608.532
C23: Impuesto Redimible Botellas Plásticas no Retornable | D23: =D108-D69 -> 3912.6058 | F23: =F108-F69 -> 3444.9164 | G23: =G108-G69 -> 3912.6058
C24: Impuesto a los Vehículos Motorizados | D24: =D109-D70 -> 25305.978 | F24: =F109-F70 -> 23874.764 | G24: =G109-G70 -> 25305.978
C25: Impuesto a la Salida de Divisas | D25: =D110-D71 -> 112851.47 | F25: =F110-F71 -> 90508.484 | G25: =G110-G71 -> 112851.47
C26: Impuesto Activos en el Exterior | D26: =D111-D72 -> 2299.155 | F26: =F111-F72 -> 2404.8033 | G26: =G111-G72 -> 2299.155
C27: Regalías, patentes y utilidades de conservación minera | D27: =D112-D73 -> 44599.572 | F27: =F112-F73 -> 3076.2261 | G27: =G112-G73 -> 44599.572
C28: Contribución para la atención integral del cancer | D28: =D113-D74 -> 22015.704 | F28: =F113-F74 -> 19463.888 | G28: =G113-G74 -> 22015.704
C29: Intereses por Mora Tributaria | D29: =D114-D77 -> 3508.7186 | F29: =F114-F77 -> 4561.7974 | G29: =G114-G77 -> 3508.7186
C30: Multas Tributarias Fiscales | D30: =D115-D78 -> 5941.9537 | F30: =F115-F78 -> 4392.8256 | G30: =G115-G78 -> 5941.9537
C31: Otros Ingresos(4) | D31: =D116-D79-D76-D75 -> 1449.9172 | F31: =F116-F79-F76-F75 -> 1418.2478 | G31: =G116-G79-G76-G75 -> 1449.9188
C32: (a) SUBTOTAL INTERNOS | D32: =+D10+SUM(D21:D31) -> 1624193.4 | F32: =+F10+SUM(F21:F31) -> 1391805 | G32: =+G10+SUM(G21:G31) -> 1624193.4
B34: IMPORTACIONES | C34: IVA Importaciones | D34: =D119 -> 277670.23 | F34: =F119-F82 -> 227660.03 | G34: =G119-G82 -> 277670.23 | I34: =+G36/G41 -> 0.15570757
C35: ICE Importaciones | D35: =D120 -> 21869.598 | F35: =F120-F83 -> 18392.695 | G35: =G120-G83 -> 21869.598
C36: (b) SUBTOTAL IMPORTACIONES | D36: =SUM(D34:D35) -> 299539.83 | F36: =SUM(F34:F35) -> 246052.72 | G36: =SUM(G34:G35) -> 299539.83
B38: DIRECTOS | D38: =D41-D39 -> 846889.1 | F38: =F41-F39 -> 693485.24 | G38: =G41-G39 -> 846889.1 | I38: =+G38/$G$41 -> 0.44023208
B39: INDIRECTOS | D39: =+D21+D22+D23+D36 -> 1076844.2 | F39: =+F21+F22+F23+F36 -> 944372.53 | G39: =+G21+G22+G23+G36 -> 1076844.2 | I39: =+G39/$G$41 -> 0.55976792
A41: TOTALES | B41: (c=a+b) RECAUDACIÓN BRUTA (5) | D41: =+D32+D36 -> 1923733.3 | F41: =+F32+F36 -> 1637857.8 | G41: =+G32+G36 -> 1923733.3 | I41: =G41+G52-G130 -> 0
B42: (d) Notas de Crédito | F42: =F131 -> 154796.11 | G42: =G131 -> 224785.68 | I42: =F41+F52-F130 -> 0
B43: (e) Compensaciones | F43: =F132 -> 4814.0881 | G43: =G132 -> 4772.3898 | I43: =D41+G52-D130 -> 0
B44: (f=c-d-e) RECAUDACIÓN EN EFECTIVO (6) | D44: =+D41 -> 1923733.3 | F44: =+F41-F42-F43 -> 1478247.6 | G44: =+G41-G42-G43 -> 1694175.2
B45: (g) Devoluciones (7) | F45: =F134 -> 24428.353 | G45: =G134 -> 115910.42
B46: (h=f-g) RECAUCIÓN NETA (SIN CONSIDERAR VALORES OCASIONALES PARA EFECTOS DE COMPARACIÓN INTERANUAL)(8) | D46: =+D44 -> 1923733.3 | F46: =+F44-F45 -> 1453819.2 | G46: =+G44-G45 -> 1578264.8
...

Sheet Jun 2026
A1: SERVICIO DE RENTAS INTERNAS
A2: RECAUDACIÓN NACIONAL(1)
A3: JUNIO 2026
A4: -cifras en miles de dólares-
A6: (A) TOTAL RECAUDADO (SIN CONSIDERAR VALORES OCASIONALES PARA EFECTOS DE COMPARACIÓN INTERANUAL)
D8: Meta 2026 (11) | F8: Recaudación 2025 | G8: Recaudación 2026 | I8: Participación de la Recaudación 2025
A10: CLASIFICACIÓN | B10: INTERNOS | C10: Impuesto a la Renta Recaudado | D10: =D11+D14+D15+D12+D13 -> 565344.44 | F10: =F11+F14+F15+F12+F13 -> 470663.23 | G10: =G11+G14+G15+G12+G13 -> 565344.44 | I10: =+G32/G41 -> 0.84499222
C11: Retenciones Mensuales (2) | D11: =D96-D59 -> 338425.89 | F11: =F96-F59 -> 255710.36 | G11: =G96-G59 -> 338425.89
C12: Autorretenciones | D12: =D97 -> 195943.27 | F12: =F97 -> 179540.12 | G12: =G97 -> 195943.27
C13: Utilidades no distribuidas(9) | D13: =D98 -> 1771.0391 | F13: =F98 -> 0 | G13: =G98 -> 1771.0391
C14: Anticipos al IR | D14: =D99-D60 -> 43.29532 | F14: =F99-F60 -> 26.2798 | G14: =G99-G60 -> 43.29532
C15: Declaraciones de Impuesto a la Renta (3) | D15: =SUM(D16:D20) -> 29160.949 | F15: =SUM(F16:F20) -> 35386.471 | G15: =SUM(G16:G20) -> 29160.949
C16: Personas Naturales | D16: =D101-D62 -> 9386.2651 | F16: =F101-F62 -> 10979.098 | G16: =G101-G62 -> 9386.2651
C17: Personas Jurídicas | D17: =D102-D63 -> 17547.145 | F17: =F102-F63 -> 22227.283 | G17: =G102-G63 -> 17547.145
C18: Herencias, Legados y Donaciones | D18: =D103-D64 -> 2181.9842 | F18: =F103-F64 -> 2082.2079 | G18: =G103-G64 -> 2181.9842
C19: Microempresas | D19: =D104-D65 -> 45.55467 | F19: =F104-F65 -> 97.6713 | G19: =G104-G65 -> 45.55467
C20: Regularización de Activos en el Exterior | D20: =D105-D66 -> 0 | F20: =F105-F66 -> 0.21114 | G20: =G105-G66 -> 0
C21: IVA Operaciones Internas | D21: =D106-D67 -> 783257.2 | F21: =F106-F67 -> 642146.61 | G21: =G106-G67 -> 783257.2
C22: ICE Operaciones Internas | D22: =D107-D68 -> 45580.9 | F22: =F107-F68 -> 42176.568 | G22: =G107-G68 -> 45580.9
C23: Impuesto Redimible Botellas Plásticas no Retornable | D23: =D108-D69 -> 4076.9335 | F23: =F108-F69 -> 3703.5504 | G23: =G108-G69 -> 4076.9335
C24: Impuesto a los Vehículos Motorizados | D24: =D109-D70 -> 24878.044 | F24: =F109-F70 -> 24270.85 | G24: =G109-G70 -> 24878.044
C25: Impuesto a la Salida de Divisas | D25: =D110-D71 -> 118941.7 | F25: =F110-F71 -> 115049.35 | G25: =G110-G71 -> 118941.7
C26: Impuesto Activos en el Exterior | D26: =D111-D72 -> 2093.9673 | F26: =F111-F72 -> 2515.012 | G26: =G111-G72 -> 2093.9673
C27: Regalías, patentes y utilidades de conservación minera | D27: =D112-D73 -> 11153.224 | F27: =F112-F73 -> 1056.2407 | G27: =G112-G73 -> 11153.224
C28: Contribución para la atención integral del cancer | D28: =D113-D74 -> 24776.872 | F28: =F113-F74 -> 22148.971 | G28: =G113-G74 -> 24776.872
C29: Intereses por Mora Tributaria | D29: =D114-D77 -> 3570.0214 | F29: =F114-F77 -> 5038.4054 | G29: =G114-G77 -> 3570.0214
C30: Multas Tributarias Fiscales | D30: =D115-D78 -> 6003.8261 | F30: =F115-F78 -> 4767.7109 | G30: =G115-G78 -> 6003.8261
C31: Otros Ingresos(4) | D31: =D116-D79-D76-D75 -> 1354.6327 | F31: =F116-F79-F76-F75 -> 2499.2315 | G31: =G116-G79-G76-G75 -> 1354.6344
C32: (a) SUBTOTAL INTERNOS | D32: =+D10+SUM(D21:D31) -> 1591031.8 | F32: =+F10+SUM(F21:F31) -> 1336035.7 | G32: =+G10+SUM(G21:G31) -> 1591031.8
B34: IMPORTACIONES | C34: IVA Importaciones | D34: =D119 -> 269456.73 | F34: =F119-F82 -> 237189.44 | G34: =G119-G82 -> 269456.73 | I34: =+G36/G41 -> 0.15500778
C35: ICE Importaciones | D35: =D120 -> 22406.669 | F35: =F120-F83 -> 23085.803 | G35: =G120-G83 -> 22406.669
C36: (b) SUBTOTAL IMPORTACIONES | D36: =SUM(D34:D35) -> 291863.4 | F36: =SUM(F34:F35) -> 260275.24 | G36: =SUM(G34:G35) -> 291863.4
B38: DIRECTOS | D38: =D41-D39 -> 758116.73 | F38: =F41-F39 -> 648009 | G38: =G41-G39 -> 758116.74 | I38: =+G38/$G$41 -> 0.40263353
B39: INDIRECTOS | D39: =+D21+D22+D23+D36 -> 1124778.4 | F39: =+F21+F22+F23+F36 -> 948301.97 | G39: =+G21+G22+G23+G36 -> 1124778.4 | I39: =+G39/$G$41 -> 0.59736647
A41: TOTALES | B41: (c=a+b) RECAUDACIÓN BRUTA (5) | D41: =+D32+D36 -> 1882895.2 | F41: =+F32+F36 -> 1596311 | G41: =+G32+G36 -> 1882895.2 | I41: =G41+G52-G130 -> 0
B42: (d) Notas de Crédito | F42: =F131 -> 172308.09 | G42: =G131 -> 220372.98 | I42: =F41+F52-F130 -> 0
B43: (e) Compensaciones | F43: =F132 -> 4958.8363 | G43: =G132 -> 4905.1917 | I43: =D41+G52-D130 -> 0
B44: (f=c-d-e) RECAUDACIÓN EN EFECTIVO (6) | D44: =+D41 -> 1882895.2 | F44: =+F41-F42-F43 -> 1419044 | G44: =+G41-G42-G43 -> 1657617
B45: (g) Devoluciones (7) | F45: =F134 -> 40473.659 | G45: =G134 -> 59067.712
B46: (h=f-g) RECAUCIÓN NETA (SIN CONSIDERAR VALORES OCASIONALES PARA EFECTOS DE COMPARACIÓN INTERANUAL)(8) | D46: =+D44 -> 1882895.2 | F46: =+F44-F45 -> 1378570.4 | G46: =+G44-G45 -> 1598549.3
...

Sheet Jul 2026
A1: SERVICIO DE RENTAS INTERNAS
A2: RECAUDACIÓN NACIONAL(1)
A3: JUNIO 2026
A4: -cifras en miles de dólares-
A6: (A) TOTAL RECAUDADO (SIN CONSIDERAR VALORES OCASIONALES PARA EFECTOS DE COMPARACIÓN INTERANUAL)
D8: Meta 2026 (11) | F8: Recaudación 2025 | G8: Recaudación 2026 | I8: Participación de la Recaudación 2025
A10: CLASIFICACIÓN | B10: INTERNOS | C10: Impuesto a la Renta Recaudado | D10: =D11+D14+D15+D12+D13 -> 616325.56 | F10: =F11+F14+F15+F12+F13 -> 523264.71 | G10: =G11+G14+G15+G12+G13 -> 616325.43 | I10: =+G32/G41 -> 0.84029368
C11: Retenciones Mensuales (2) | D11: =D96-D59 -> 391918.78 | F11: =F96-F59 -> 324970.94 | G11: =G96-G59 -> 391917.25
C12: Autorretenciones | D12: =D97 -> 196867.06 | F12: =F97 -> 175441.12 | G12: =G97 -> 196867.05
C13: Utilidades no distribuidas(9) | D13: =D98 -> 1630.7803 | F13: =F98 -> 0 | G13: =G98 -> 1630.7803
C14: Anticipos al IR | D14: =D99-D60 -> 151.90181 | F14: =F99-F60 -> 73.33234 | G14: =G99-G60 -> 151.90181
C15: Declaraciones de Impuesto a la Renta (3) | D15: =SUM(D16:D20) -> 25757.047 | F15: =SUM(F16:F20) -> 22779.325 | G15: =SUM(G16:G20) -> 25758.449
C16: Personas Naturales | D16: =D101-D62 -> 7780.81 | F16: =F101-F62 -> 7193.4588 | G16: =G101-G62 -> 7782.2118
C17: Personas Jurídicas | D17: =D102-D63 -> 15275.703 | F17: =F102-F63 -> 14124.995 | G17: =G102-G63 -> 15275.703
C18: Herencias, Legados y Donaciones | D18: =D103-D64 -> 2656.3384 | F18: =F103-F64 -> 1440.7971 | G18: =G103-G64 -> 2656.3383
C19: Microempresas | D19: =D104-D65 -> 44.19602 | F19: =F104-F65 -> 20.07422 | G19: =G104-G65 -> 44.19602
C20: Regularización de Activos en el Exterior | D20: =D105-D66 -> 0 | F20: =F105-F66 -> 0 | G20: =G105-G66 -> 0
C21: IVA Operaciones Internas | D21: =D106-D67 -> 846570.94 | F21: =F106-F67 -> 681003.66 | G21: =G106-G67 -> 846578.31
C22: ICE Operaciones Internas | D22: =D107-D68 -> 18724.895 | F22: =F107-F68 -> 35055.258 | G22: =G107-G68 -> 18724.894
C23: Impuesto Redimible Botellas Plásticas no Retornable | D23: =D108-D69 -> 4420.1405 | F23: =F108-F69 -> 2718.3566 | G23: =G108-G69 -> 4420.1405
C24: Impuesto a los Vehículos Motorizados | D24: =D109-D70 -> 25192.274 | F24: =F109-F70 -> 21412.896 | G24: =G109-G70 -> 25192.274
C25: Impuesto a la Salida de Divisas | D25: =D110-D71 -> 124529.04 | F25: =F110-F71 -> 111595.15 | G25: =G110-G71 -> 124529.28
C26: Impuesto Activos en el Exterior | D26: =D111-D72 -> 2316.3435 | F26: =F111-F72 -> 2334.9127 | G26: =G111-G72 -> 2316.3435
C27: Regalías, patentes y utilidades de conservación minera | D27: =D112-D73 -> 8604.1351 | F27: =F112-F73 -> 1627.6361 | G27: =G112-G73 -> 8604.1351
C28: Contribución para la atención integral del cancer | D28: =D113-D74 -> 24170.838 | F28: =F113-F74 -> 21448.428 | G28: =G113-G74 -> 24170.838
C29: Intereses por Mora Tributaria | D29: =D114-D77 -> 4098.4676 | F29: =F114-F77 -> 3375.9043 | G29: =G114-G77 -> 4098.3739
C30: Multas Tributarias Fiscales | D30: =D115-D78 -> 6293.5141 | F30: =F115-F78 -> 6059.257 | G30: =G115-G78 -> 6293.5496
C31: Otros Ingresos(4) | D31: =D116-D79-D76-D75 -> 1549.792 | F31: =F116-F79-F76-F75 -> 1431.8947 | G31: =G116-G79-G76-G75 -> 1549.792
C32: (a) SUBTOTAL INTERNOS | D32: =+D10+SUM(D21:D31) -> 1682795.9 | F32: =+F10+SUM(F21:F31) -> 1411328.1 | G32: =+G10+SUM(G21:G31) -> 1682803.4
B34: IMPORTACIONES | C34: IVA Importaciones | D34: =D119 -> 292909.29 | F34: =F119-F82 -> 253750.85 | G34: =G119-G82 -> 292909.29 | I34: =+G36/G41 -> 0.15970632
C35: ICE Importaciones | D35: =D120 -> 26924.528 | F35: =F120-F83 -> 20448.776 | G35: =G120-G83 -> 26924.528
C36: (b) SUBTOTAL IMPORTACIONES | D36: =SUM(D34:D35) -> 319833.81 | F36: =SUM(F34:F35) -> 274199.63 | G36: =SUM(G34:G35) -> 319833.81
B38: DIRECTOS | D38: =D41-D39 -> 813079.96 | F38: =F41-F39 -> 692550.79 | G38: =G41-G39 -> 813080.01 | I38: =+G38/$G$41 -> 0.40600466
B39: INDIRECTOS | D39: =+D21+D22+D23+D36 -> 1189549.8 | F39: =+F21+F22+F23+F36 -> 992976.9 | G39: =+G21+G22+G23+G36 -> 1189557.2 | I39: =+G39/$G$41 -> 0.59399534
A41: TOTALES | B41: (c=a+b) RECAUDACIÓN BRUTA (5) | D41: =+D32+D36 -> 2002629.7 | F41: =+F32+F36 -> 1685527.7 | G41: =+G32+G36 -> 2002637.2 | I41: =G41+G52-G130 -> 0
B42: (d) Notas de Crédito | F42: =F131 -> 166586.57 | G42: =G131 -> 228904.42 | I42: =F41+F52-F130 -> 0
B43: (e) Compensaciones | F43: =F132 -> 4922.2993 | G43: =G132 -> 5088.6995 | I43: =D41+G52-D130 -> 0
B44: (f=c-d-e) RECAUDACIÓN EN EFECTIVO (6) | D44: =+D41 -> 2002629.7 | F44: =+F41-F42-F43 -> 1514018.8 | G44: =+G41-G42-G43 -> 1768644.1
B45: (g) Devoluciones (7) | F45: =F134 -> 24980.389 | G45: =G134 -> 74383.398
B46: (h=f-g) RECAUCIÓN NETA (SIN CONSIDERAR VALORES OCASIONALES PARA EFECTOS DE COMPARACIÓN INTERANUAL)(8) | D46: =+D44 -> 2002629.7 | F46: =+F44-F45 -> 1489038.4 | G46: =+G44-G45 -> 1694260.7
...

Sheet Ago 2026
A1: SERVICIO DE RENTAS INTERNAS
A2: RECAUDACIÓN NACIONAL(1)
A3: AGOSTO 2026
A4: -cifras en miles de dólares-
A6: (A) TOTAL RECAUDADO (SIN CONSIDERAR VALORES OCASIONALES PARA EFECTOS DE COMPARACIÓN INTERANUAL)
D8: Meta 2026 (11) | F8: Recaudación 2025 | G8: Recaudación 2026 | I8: Participación de la Recaudación 2026
A10: CLASIFICACIÓN | B10: INTERNOS | C10: Impuesto a la Renta Recaudado | D10: =D11+D14+D15+D12+D13 -> 613910.93 | F10: =F11+F14+F15+F12+F13 -> 542213.42 | G10: =G11+G14+G15+G12+G13 -> 750080.38 | I10: =+G32/G41 -> 0.85062712
C11: Retenciones Mensuales (2) | D11: =D96-D59 -> 392359.72 | F11: =F96-F59 -> 344149.99 | G11: =G96-G59 -> 450085.57
C12: Autorretenciones | D12: =D97 -> 203483.72 | F12: =F97 -> 177394.61 | G12: =G97 -> 207563.87
C13: Utilidades no distribuidas(9) | D13: =D98 -> 0 | F13: =F98 -> 0 | G13: =G98 -> 69672.032
C14: Anticipos al IR | D14: =D99-D60 -> 9.87765 | F14: =F99-F60 -> 43.05316 | G14: =G99-G60 -> 41.50356
C15: Declaraciones de Impuesto a la Renta (3) | D15: =SUM(D16:D20) -> 18057.617 | F15: =SUM(F16:F20) -> 20625.762 | G15: =SUM(G16:G20) -> 22717.41
C16: Personas Naturales | D16: =D101-D62 -> 7080.6853 | F16: =F101-F62 -> 4636.4115 | G16: =G101-G62 -> 7100.4861
C17: Personas Jurídicas | D17: =D102-D63 -> 9655.8547 | F17: =F102-F63 -> 11399.043 | G17: =G102-G63 -> 13519.228
C18: Herencias, Legados y Donaciones | D18: =D103-D64 -> 1317.9634 | F18: =F103-F64 -> 4583.5003 | G18: =G103-G64 -> 2054.9815
C19: Microempresas | D19: =D104-D65 -> 3.11339 | F19: =F104-F65 -> 6.80754 | G19: =G104-G65 -> 42.71456
C20: Regularización de Activos en el Exterior | D20: =D105-D66 -> 0 | F20: =F105-F66 -> 0 | G20: =G105-G66 -> 0
C21: IVA Operaciones Internas | D21: =D106-D67 -> 701221.44 | F21: =F106-F67 -> 709685.84 | G21: =G106-G67 -> 807509.85
C22: ICE Operaciones Internas | D22: =D107-D68 -> 42373.843 | F22: =F107-F68 -> 39374.035 | G22: =G107-G68 -> 30162.839
C23: Impuesto Redimible Botellas Plásticas no Retornable | D23: =D108-D69 -> 3723.4353 | F23: =F108-F69 -> 3561.442 | G23: =G108-G69 -> 4109.258
C24: Impuesto a los Vehículos Motorizados | D24: =D109-D70 -> 22890.537 | F24: =F109-F70 -> 18630.602 | G24: =G109-G70 -> 21993.108
C25: Impuesto a la Salida de Divisas | D25: =D110-D71 -> 117523.1 | F25: =F110-F71 -> 111086.22 | G25: =G110-G71 -> 130787.44
C26: Impuesto Activos en el Exterior | D26: =D111-D72 -> 2392.9597 | F26: =F111-F72 -> 2471.3916 | G26: =G111-G72 -> 1875.3189
C27: Regalías, patentes y utilidades de conservación minera | D27: =D112-D73 -> 3006.3476 | F27: =F112-F73 -> 2033.2157 | G27: =G112-G73 -> 10534.914
... C30: Multas Tributarias Fiscales | D30: =D115-D76 -> 5211.7511 | F30: =F115-F76 -> 4143.0749 | G30: =G115-G76 -> 6358.54
C31: Otros Ingresos(4) | D31: =D116-D77 -> 1415.6243 | F31: =F116-F79 -> 1352.3929 | G31: =G116-G79 -> 1401.9468
C32: (a) SUBTOTAL INTERNOS | D32: =+D10+SUM(D21:D31) -> 1534010.7 | F32: =+F10+SUM(F21:F31) -> 1456001.1 | G32: =+G10+SUM(G21:G31) -> 1789772.7
B34: IMPORTACIONES | C34: IVA Importaciones | D34: =D119 -> 280090.82 | F34: =F119-F82 -> 233430.52 | G34: =G119-G82 -> 287475.27 | I34: =+G36/G41 -> 0.14937288
C35: ICE Importaciones | D35: =D120 -> 25466.998 | F35: =F120-F83 -> 21708.597 | G35: =G120-G83 -> 26814.625
C36: (b) SUBTOTAL IMPORTACIONES | D36: =SUM(D34:D35) -> 305557.82 | F36: =SUM(F34:F35) -> 255139.11 | G36: =SUM(G34:G35) -> 314289.9
B38: DIRECTOS | D38: =D41-D39 -> 786692.03 | F38: =F41-F39 -> 703379.77 | G38: =G41-G39 -> 947990.77 | I38: =+G38/$G$41 -> 0.45055254
B39: INDIRECTOS | D39: =+D21+D22+D23+D36 -> 1052876.5 | F39: =+F21+F22+F23+F36 -> 1007760.4 | G39: =+G21+G22+G23+G36 -> 1156071.9 | I39: =+G39/$G$41 -> 0.54944746
A41: TOTALES | B41: (c=a+b) RECAUDACIÓN BRUTA (5) | D41: =+D32+D36 -> 1839568.6 | F41: =+F32+F36 -> 1711140.2 | G41: =+G32+G36 -> 2104062.6 | I41: =G41+G52-G130 -> 0
B42: (d) Notas de Crédito | F42: =F131 -> 161385.29 | G42: =G131 -> 213651.24 | I42: =F41+F52-F130 -> 0
B43: (e) Compensaciones | F43: =F132 -> 4247.3586 | G43: =G132 -> 5315.6281 | I43: -3.4924597e-09
B44: (f=c-d-e) RECAUDACIÓN EN EFECTIVO (6) | D44: =+D41 -> 1839568.6 | F44: =+F41-F42-F43 -> 1545507.6 | G44: =+G41-G42-G43 -> 1885095.7
B45: (g) Devoluciones (7) | F45: =F134 -> 33862.544 | G45: =G134 -> 92501.207
B46: (h=f-g) RECAUCIÓN NETA (SIN CONSIDERAR VALORES OCASIONALES PARA EFECTOS DE COMPARACIÓN INTERANUAL)(8) | D46: =+D44 -> 1839568.6 | F46: =+F44-F45 -> 1511645 | G46: =+G44-G45 -> 1792594.5
A48: (B) VALORES OCASIONALES (NO CONSIDERADOS PARA EFECTOS DE COMPARACIÓN INTERANUAL)
F50: =+F8 -> Recaudación 2025 | G50: =+G8 -> Recaudación 2026
...

Sheet Sept 2026
A1: SERVICIO DE RENTAS INTERNAS
A2: RECAUDACIÓN NACIONAL(1)
A3: SEPTIEMBRE 2026
A4: -cifras en miles de dólares-
A6: (A) TOTAL RECAUDADO (SIN CONSIDERAR VALORES OCASIONALES PARA EFECTOS DE COMPARACIÓN INTERANUAL)
D8: Meta 2026 | F8: Recaudación 2025 | G8: Recaudación 2026 | I8: Participación de la Recaudación 2026
A10: CLASIFICACIÓN | B10: INTERNOS | C10: Impuesto a la Renta Recaudado | D10: =D95 -> 560374.43 | F10: =F95-F58 -> 510431.98 | G10: =G95-G58 -> 650901.31 | I10: =+G32/G41 -> 0.85320335
C11: Retenciones Mensuales (2) | D11: =D96 -> 343083.92 | F11: =F96-F59 -> 318583.67 | G11: =G96-G59 -> 384099.26
C12: Autorretenciones | D12: =D97 -> 197600.4 | F12: =F97 -> 171427.72 | G12: =G97 -> 191275.83
C13: Utilidades no distribuidas(9) | D13: =D98 -> 0 | F13: =F98 -> 0 | G13: =G98 -> 48051.58
C14: Anticipos al IR | D14: =D99 -> 30.95639 | F14: =F99-F60 -> 131.52582 | G14: =G99-G60 -> 179.983
C15: Declaraciones de Impuesto a la Renta (3) | D15: =D100 -> 19659.157 | F15: =F100-F61 -> 20289.061 | G15: =G100-G61 -> 27294.664
C16: Personas Naturales | D16: =D101 -> 7666.7759 | F16: =F101-F62 -> 4867.319 | G16: =G101-G62 -> 6676.5548
C17: Personas Jurídicas | D17: =D102 -> 10497.266 | F17: =F102-F63 -> 13728.582 | G17: =G102-G63 -> 16804.115
C18: Herencias, Legados y Donaciones | D18: =D103 -> 1490.7005 | F18: =F103-F64 -> 1683.4892 | G18: =G103-G64 -> 3783.0798
C19: Microempresas | D19: =D104 -> 4.41441 | F19: =F104-F65 -> 9.67056 | G19: =G104-G65 -> 30.91406
C20: Regularización de Activos en el Exterior | D20: =D105 -> 0 | F20: =F105-F66 -> 0 | G20: =G105-G66 -> 0
C21: IVA Operaciones Internas | D21: =D106 -> 686531.39 | F21: =F106-F67 -> 645523.87 | G21: =G106-G67 -> 795714.56
C22: ICE Operaciones Internas | D22: =D107 -> 32947.431 | F22: =F107-F68 -> 31916.928 | G22: =G107-G68 -> 34022.411
C23: Impuesto Redimible Botellas Plásticas no Retornable | D23: =D108 -> 3519.6269 | F23: =F108-F69 -> 3371.885 | G23: =G108-G69 -> 4162.4959
C24: Impuesto a los Vehículos Motorizados | D24: =D109 -> 22750.362 | F24: =F109-F70 -> 18528.99 | G24: =G109-G70 -> 21691.748
C25: Impuesto a la Salida de Divisas | D25: =D110 -> 108569.78 | F25: =F110-F71 -> 102457.62 | G25: =G110-G71 -> 121155.05
... C28: Contribución para la atención integral del cancer | D28: =D113 -> 20199.129 | F28: =F113-F74 -> 21785.063 | G28: =G113-G74 -> 23869.565
C29: Intereses por Mora Tributaria | D29: =D114 -> 3347.4533 | F29: =F114-F77 -> 3285.7871 | G29: =G114-G77 -> 4920.9694
C30: Multas Tributarias Fiscales | D30: =D115 -> 5749.1036 | F30: =F115-F78 -> 4588.464 | G30: =G115-G78 -> 6175.5793
C31: Otros Ingresos(4) | D31: =D116 -> 1341.5106 | F31: =F116-F79 -> 1018.6839 | G31: =G116-G79 -> 1456.278
C32: (a) SUBTOTAL INTERNOS | D32: =+D10+SUM(D21:D31) -> 1577397 | F32: =+F10+SUM(F21:F31) -> 1427723.1 | G32: =+G10+SUM(G21:G31) -> 1799386.5
B34: IMPORTACIONES | C34: IVA Importaciones | D34: =D119 -> 319894.62 | F34: =F119 -> 267952.36 | G34: =G119-G82 -> 287672.85 | I34: =+G36/G41 -> 0.14679665
C35: ICE Importaciones | D35: =D120 -> 25221.97 | F35: =F120 -> 27288.012 | G35: =G120-G83 -> 21917.952
C36: (b) SUBTOTAL IMPORTACIONES | D36: =SUM(D34:D35) -> 345116.59 | F36: =SUM(F34:F35) -> 295240.37 | G36: =SUM(G34:G35) -> 309590.81
B38: DIRECTOS | D38: =D41-D39 -> 854398.53 | F38: =F41-F39 -> 746910.38 | G38: =G41-G39 -> 965487.04 | I38: =+G38/$G$41 -> 0.45779868
B39: INDIRECTOS | D39: =+D21+D22+D23+D36 -> 1068115 | F39: =+F21+F22+F23+F36 -> 976053.05 | G39: =+G21+G22+G23+G36 -> 1143490.3 | I39: =+G39/$G$41 -> 0.54220132
A41: TOTALES | B41: (c=a+b) RECAUDACIÓN BRUTA (5) | D41: =+D32+D36 -> 1922513.6 | F41: =+F32+F36 -> 1722963.4 | G41: =+G32+G36 -> 2108977.3 | I41: =G41+G52-G130 -> 0
B42: (d) Notas de Crédito | F42: =F131 -> 184335.65 | G42: =G131 -> 279329.41
B43: (e) Compensaciones | F43: =F132 -> 8187.9222 | G43: =G132 -> 4791.879
B44: (f=c-d-e) RECAUDACIÓN EN EFECTIVO (6) | D44: =+D41 -> 1922513.6 | F44: =+F41-F42-F43 -> 1530439.9 | G44: =+G41-G42-G43 -> 1824856
B45: (g) Devoluciones (7) | F45: =F134 -> 129956.82 | G45: =G134 -> 89263.745
B46: (h=f-g) RECAUCIÓN NETA (SIN CONSIDERAR VALORES OCASIONALES PARA EFECTOS DE COMPARACIÓN INTERANUAL)(8) | D46: =+D44 -> 1922513.6 | F46: =+F44-F45 -> 1400483 | G46: =+G44-G45 -> 1735592.3
A48: (B) VALORES OCASIONALES (NO CONSIDERADOS PARA EFECTOS DE COMPARACIÓN INTERANUAL)
D50: =D8 -> Meta 2026 | F50: =+F8 -> Recaudación 2025 | G50: =+G8 -> Recaudación 2026
...

Sheet Oct 2025
A1: SERVICIO DE RENTAS INTERNAS
A2: RECAUDACIÓN NACIONAL(1)
A3: OCTUBRE 2025
A4: -cifras en miles de dólares-
A6: (A) TOTAL RECAUDADO (SIN CONSIDERAR VALORES OCASIONALES PARA EFECTOS DE COMPARACIÓN INTERANUAL)
D8: Meta 2025 | F8: Recaudación 2024 | G8: Recaudación 2025 | I8: Participación de la Recaudación 2025
A10: CLASIFICACIÓN | B10: INTERNOS | C10: Impuesto a la Renta Recaudado | D10: =D104 -> 0 | F10: =F104 -> 0 | G10: =G104-G57 -> 0 | I10: =+G31/G40 -> #DIV/0!
C11: Retenciones Mensuales (2) | D11: =D105 -> 0 | F11: =F105 -> 0 | G11: =G105-G58 -> 0
C12: Autorretenciones (11) | D12: =D106 -> 0 | F12: =F106 -> 0 | G12: =G106 -> 0
C13: Anticipos al IR | D13: =D107 -> 0 | F13: =F107 -> 0 | G13: =G107-G59 -> 0
C14: Declaraciones de Impuesto a la Renta (3) | D14: =D108 -> 0 | F14: =F108 -> 0 | G14: =G108-G60 -> 0
C15: Personas Naturales | D15: =D109 -> 0 | F15: =F109 -> 0 | G15: =G109-G61 -> 0
C16: Personas Jurídicas | D16: =D110 -> 0 | F16: =F110 -> 0 | G16: =G110-G62 -> 0
C17: Herencias, Legados y Donaciones | D17: =D111 -> 0 | F17: =F111 -> 0 | G17: =G111-G63 -> 0
C18: Microempresas | D18: =D112 -> 0 | F18: =F112 -> 0 | G18: =G112-G64 -> 0
C19: Regularización de Activos en el Exterior | D19: =D113 -> 0 | F19: =F113 -> 0 | G19: =G113-G65 -> 0
C20: IVA Operaciones Internas(9) | D20: =D114 -> 0 | F20: =F114 -> 0 | G20: =G114-G66 -> 0
C21: ICE Operaciones Internas | D21: =D115 -> 0 | F21: =F115 -> 0 | G21: =G115-G67 -> 0
C22: Impuesto Redimible Botellas Plásticas no Retornables | D22: =D116 -> 0 | F22: =F116 -> 0 | G22: =G116-G68 -> 0
C23: Impuesto a los Vehículos Motorizados | D23: =D117 -> 0 | F23: =F117 -> 0 | G23: =G117-G69 -> 0
C24: Impuesto a la Salida de Divisas | D24: =D118 -> 0 | F24: =F118 -> 0 | G24: =G118-G70 -> 0
... C27: Contribución para la atención integral del cancer | D27: =D121 -> 0 | F27: =F121 -> 0 | G27: =G121-G73 -> 0
C28: Intereses por Mora Tributaria | D28: =D122 -> 0 | F28: =F122 -> 0 | G28: =G122-G76 -> 0
C29: Multas Tributarias Fiscales | D29: =D123 -> 0 | F29: =F123 -> 0 | G29: =G123-G77 -> 0
C30: Otros Ingresos(4) | D30: =D124 -> 0 | F30: =F124 -> 0 | G30: =G124-G78 -> 0
C31: (a) SUBTOTAL INTERNOS | D31: =+D10+SUM(D20:D30) -> 0 | F31: =+F10+SUM(F20:F30) -> 0 | G31: =+G10+SUM(G20:G30) -> 0
B33: IMPORTACIONES | C33: IVA Importaciones | D33: =D127 -> 0 | F33: =F127 -> 0 | G33: =G127-G81 -> 0 | I33: =+G35/G40 -> #DIV/0!
C34: ICE Importaciones | D34: =D128 -> 0 | F34: =F128 -> 0 | G34: =G128-G82 -> 0
C35: (b) SUBTOTAL IMPORTACIONES | D35: =SUM(D33:D34) -> 0 | F35: =SUM(F33:F34) -> 0 | G35: =SUM(G33:G34) -> 0
B37: DIRECTOS | D37: =D40-D38 -> 0 | F37: =F40-F38 -> 0 | G37: =G40-G38 -> 0 | I37: =+G37/$G$40 -> #DIV/0!
B38: INDIRECTOS | D38: =+D20+D21+D22+D35 -> 0 | F38: =+F20+F21+F22+F35 -> 0 | G38: =+G20+G21+G22+G35 -> 0 | I38: =+G38/$G$40 -> #DIV/0!
A40: TOTALES | B40: (c=a+b) RECAUDACIÓN BRUTA (5) | D40: =+D31+D35 -> 0 | F40: =+F31+F35 -> 0 | G40: =+G31+G35 -> 0
B41: (d) Notas de Crédito | F41: =F139 -> 0 | G41: =G139 -> 0
B42: (e) Compensaciones | F42: =F140 -> 0 | G42: =G140 -> 0
B43: (f=c-d-e) RECAUDACIÓN EN EFECTIVO (6) | D43: =+D40 -> 0 | F43: =+F40-F41-F42 -> 0 | G43: =+G40-G41-G42 -> 0
B44: (g) Devoluciones (7) | F44: =F142 -> 0 | G44: =G142 -> 0
B45: (h=f-g) RECAUCIÓN NETA (SIN CONSIDERAR VALORES OCASIONALES PARA EFECTOS DE COMPARACIÓN INTERANUAL)(8) | D45: =+D43 -> 0 | F45: =+F43-F44 -> 0 | G45: =+G43-G44 -> 0
A47: (B) VALORES OCASIONALES (NO CONSIDERADOS PARA EFECTOS DE COMPARACIÓN INTERANUAL)
D49: =D8 -> Meta 2025 | F49: =+F8 -> Recaudación 2024 | G49: =+G8 -> Recaudación 2025
A51: TOTAL VALORES OCASIONALES | D51: =D54+D86+D93 -> 0 | F51: =F54+F86+F93 -> 0 | G51: =G54+G86+G93 -> 0
...

Sheet Nov2025
A1: SERVICIO DE RENTAS INTERNAS
A2: RECAUDACIÓN NACIONAL(1)
A3: NOVIEMBRE 2025
A4: -cifras en miles de dólares-
A6: (A) TOTAL RECAUDADO (SIN CONSIDERAR VALORES OCASIONALES PARA EFECTOS DE COMPARACIÓN INTERANUAL)
D8: Meta 2025 | F8: Recaudación 2024 | G8: Recaudación 2025 | I8: Participación de la Recaudación 2025
A10: CLASIFICACIÓN | B10: INTERNOS | C10: Impuesto a la Renta Recaudado | D10: =D105 -> 0 | F10: =F105 -> 0 | G10: =G105-G58 -> 0 | I10: =+G32/G41 -> #DIV/0!
C11: Retenciones Mensuales (2) | D11: =D106 -> 0 | F11: =F106 -> 0 | G11: =G106-G59 -> 0
C12: Autorretenciones (11) | D12: =D107 -> 0 | F12: =F107 -> 0 | G12: =G107 -> 0
C13: Utilidades no distribuidas(12) | D13: =D108 -> 0 | F13: =F108 -> 0 | G13: =G108 -> 0
C14: Anticipos al IR | D14: =D109 -> 0 | F14: =F109 -> 0 | G14: =G109-G60 -> 0
C15: Declaraciones de Impuesto a la Renta (3) | D15: =D110 -> 0 | F15: =F110 -> 0 | G15: =G110-G61 -> 0
C16: Personas Naturales | D16: =D111 -> 0 | F16: =F111 -> 0 | G16: =G111-G62 -> 0
C17: Personas Jurídicas | D17: =D112 -> 0 | F17: =F112 -> 0 | G17: =G112-G63 -> 0
C18: Herencias, Legados y Donaciones | D18: =D113 -> 0 | F18: =F113 -> 0 | G18: =G113-G64 -> 0
C19: Microempresas | D19: =D114 -> 0 | F19: =F114 -> 0 | G19: =G114-G65 -> 0
C20: Regularización de Activos en el Exterior | D20: =D115 -> 0 | F20: =F115 -> 0 | G20: =G115-G66 -> 0
C21: IVA Operaciones Internas(9) | D21: =D116 -> 0 | F21: =F116 -> 0 | G21: =G116-G67 -> 0
C22: ICE Operaciones Internas | D22: =D117 -> 0 | F22: =F117 -> 0 | G22: =G117-G68 -> 0
C23: Impuesto Redimible Botellas Plásticas no Retornables | D23: =D118 -> 0 | F23: =F118 -> 0 | G23: =G118-G69 -> 0
C24: Impuesto a los Vehículos Motorizados | D24: =D119 -> 0 | F24: =F119 -> 0 | G24: =G119-G70 -> 0
C25: Impuesto a la Salida de Divisas | D25: =D120 -> 0 | F25: =F120 -> 0 | G25: =G120-G71 -> 0
... C28: Contribución para la atención integral del cancer | D28: =D123 -> 0 | F28: =F123 -> 0 | G28: =G123-G74 -> 0
C29: Intereses por Mora Tributaria | D29: =D124 -> 0 | F29: =F124 -> 0 | G29: =G124-G77 -> 0
C30: Multas Tributarias Fiscales | D30: =D125 -> 0 | F30: =F125 -> 0 | G30: =G125-G78 -> 0
C31: Otros Ingresos(4) | D31: =D126 -> 0 | F31: =F126 -> 0 | G31: =G126-G79 -> 0
C32: (a) SUBTOTAL INTERNOS | D32: =+D10+SUM(D21:D31) -> 0 | F32: =+F10+SUM(F21:F31) -> 0 | G32: =+G10+SUM(G21:G31) -> 0
B34: IMPORTACIONES | C34: IVA Importaciones | D34: =D129 -> 0 | F34: =F129 -> 0 | G34: =G129-G82 -> 0 | I34: =+G36/G41 -> #DIV/0!
C35: ICE Importaciones | D35: =D130 -> 0 | F35: =F130 -> 0 | G35: =G130-G83 -> 0
C36: (b) SUBTOTAL IMPORTACIONES | D36: =SUM(D34:D35) -> 0 | F36: =SUM(F34:F35) -> 0 | G36: =SUM(G34:G35) -> 0
B38: DIRECTOS | D38: =D41-D39 -> 0 | F38: =F41-F39 -> 0 | G38: =G41-G39 -> 0 | I38: =+G38/$G$41 -> #DIV/0!
B39: INDIRECTOS | D39: =+D21+D22+D23+D36 -> 0 | F39: =+F21+F22+F23+F36 -> 0 | G39: =+G21+G22+G23+G36 -> 0 | I39: =+G39/$G$41 -> #DIV/0!
A41: TOTALES | B41: (c=a+b) RECAUDACIÓN BRUTA (5) | D41: =+D32+D36 -> 0 | F41: =+F32+F36 -> 0 | G41: =+G32+G36 -> 0 | I41: =G41+G52-G140 -> 0
B42: (d) Notas de Crédito | F42: =F141 -> 0 | G42: =G141 -> 0
B43: (e) Compensaciones | F43: =F142 -> 0 | G43: =G142 -> 0
B44: (f=c-d-e) RECAUDACIÓN EN EFECTIVO (6) | D44: =+D41 -> 0 | F44: =+F41-F42-F43 -> 0 | G44: =+G41-G42-G43 -> 0
B45: (g) Devoluciones (7) | F45: =F144 -> 0 | G45: =G144 -> 0
B46: (h=f-g) RECAUCIÓN NETA (SIN CONSIDERAR VALORES OCASIONALES PARA EFECTOS DE COMPARACIÓN INTERANUAL)(8) | D46: =+D44 -> 0 | F46: =+F44-F45 -> 0 | G46: =+G44-G45 -> 0
A48: (B) VALORES OCASIONALES (NO CONSIDERADOS PARA EFECTOS DE COMPARACIÓN INTERANUAL)
D50: =D8 -> Meta 2025 | F50: =+F8 -> Recaudación 2024 | G50: =+G8 -> Recaudación 2025
...

Sheet Dic2025
A1: SERVICIO DE RENTAS INTERNAS
A2: RECAUDACIÓN NACIONAL(1)
A3: DICIEMBRE 2025
A4: -cifras en miles de dólares-
A6: (A) TOTAL RECAUDADO (SIN CONSIDERAR VALORES OCASIONALES PARA EFECTOS DE COMPARACIÓN INTERANUAL)
D8: Meta 2025 | F8: Recaudación 2024 | G8: Recaudación 2025 | I8: Participación de la Recaudación 2025
A10: CLASIFICACIÓN | B10: INTERNOS | C10: Impuesto a la Renta Recaudado | D10: =D105 -> 0 | F10: =F105 -> 0 | G10: =G105-G58 -> 0 | I10: =+G32/G41 -> #DIV/0!
C11: Retenciones Mensuales (2) | D11: =D106 -> 0 | F11: =F106 -> 0 | G11: =G106-G59 -> 0
C12: Autorretenciones (11) | D12: =D107 -> 0 | F12: =F107 -> 0 | G12: =G107 -> 0
C13: Utilidades no distribuidas(12) | D13: =D108 -> 0 | F13: =F108 -> 0 | G13: =G108 -> 0
C14: Anticipos al IR | D14: =D109 -> 0 | F14: =F109 -> 0 | G14: =G109-G60 -> 0
C15: Declaraciones de Impuesto a la Renta (3) | D15: =D110 -> 0 | F15: =F110 -> 0 | G15: =G110-G61 -> 0
C16: Personas Naturales | D16: =D111 -> 0 | F16: =F111 -> 0 | G16: =G111-G62 -> 0
C17: Personas Jurídicas | D17: =D112 -> 0 | F17: =F112 -> 0 | G17: =G112-G63 -> 0
C18: Herencias, Legados y Donaciones | D18: =D113 -> 0 | F18: =F113 -> 0 | G18: =G113-G64 -> 0
C19: Microempresas | D19: =D114 -> 0 | F19: =F114 -> 0 | G19: =G114-G65 -> 0
C20: Regularización de Activos en el Exterior | D20: =D115 -> 0 | F20: =F115 -> 0 | G20: =G115-G66 -> 0
C21: IVA Operaciones Internas(9) | D21: =D116 -> 0 | F21: =F116 -> 0 | G21: =G116-G67 -> 0
C22: ICE Operaciones Internas | D22: =D117 -> 0 | F22: =F117 -> 0 | G22: =G117-G68 -> 0
C23: Impuesto Redimible Botellas Plásticas no Retornables | D23: =D118 -> 0 | F23: =F118 -> 0 | G23: =G118-G69 -> 0
C24: Impuesto a los Vehículos Motorizados | D24: =D119 -> 0 | F24: =F119 -> 0 | G24: =G119-G70 -> 0
C25: Impuesto a la Salida de Divisas | D25: =D120 -> 0 | F25: =F120 -> 0 | G25: =G120-G71 -> 0
... C28: Contribución para la atención integral del cancer | D28: =D123 -> 0 | F28: =F123 -> 0 | G28: =G123-G74 -> 0
C29: Intereses por Mora Tributaria | D29: =D124 -> 0 | F29: =F124 -> 0 | G29: =G124-G77 -> 0
C30: Multas Tributarias Fiscales | D30: =D125 -> 0 | F30: =F125 -> 0 | G30: =G125-G78 -> 0
C31: Otros Ingresos(4) | D31: =D126 -> 0 | F31: =F126 -> 0 | G31: =G126-G79 -> 0
C32: (a) SUBTOTAL INTERNOS | D32: =+D10+SUM(D21:D31) -> 0 | F32: =+F10+SUM(F21:F31) -> 0 | G32: =+G10+SUM(G21:G31) -> 0
B34: IMPORTACIONES | C34: IVA Importaciones | D34: =D129 -> 0 | F34: =F129 -> 0 | G34: =G129-G82 -> 0 | I34: =+G36/G41 -> #DIV/0!
C35: ICE Importaciones | D35: =D130 -> 0 | F35: =F130 -> 0 | G35: =G130-G83 -> 0
C36: (b) SUBTOTAL IMPORTACIONES | D36: =SUM(D34:D35) -> 0 | F36: =SUM(F34:F35) -> 0 | G36: =SUM(G34:G35) -> 0
B38: DIRECTOS | D38: =D41-D39 -> 0 | F38: =F41-F39 -> 0 | G38: =G41-G39 -> 0 | I38: =+G38/$G$41 -> #DIV/0!
B39: INDIRECTOS | D39: =+D21+D22+D23+D36 -> 0 | F39: =+F21+F22+F23+F36 -> 0 | G39: =+G21+G22+G23+G36 -> 0 | I39: =+G39/$G$41 -> #DIV/0!
A41: TOTALES | B41: (c=a+b) RECAUDACIÓN BRUTA (5) | D41: =+D32+D36 -> 0 | F41: =+F32+F36 -> 0 | G41: =+G32+G36 -> 0 | I41: =G41+G52-G140 -> 0
B42: (d) Notas de Crédito | F42: =F141 -> 0 | G42: =G141 -> 0
B43: (e) Compensaciones | F43: =F142 -> 0 | G43: =G142 -> 0
B44: (f=c-d-e) RECAUDACIÓN EN EFECTIVO (6) | D44: =+D41 -> 0 | F44: =+F41-F42-F43 -> 0 | G44: =+G41-G42-G43 -> 0
B45: (g) Devoluciones (7) | F45: =F144 -> 0 | G45: =G144 -> 0
B46: (h=f-g) RECAUCIÓN NETA (SIN CONSIDERAR VALORES OCASIONALES PARA EFECTOS DE COMPARACIÓN INTERANUAL)(8) | D46: =+D44 -> 0 | F46: =+F44-F45 -> 0 | G46: =+G44-G45 -> 0
A48: (B) VALORES OCASIONALES (NO CONSIDERADOS PARA EFECTOS DE COMPARACIÓN INTERANUAL)
D50: =D8 -> Meta 2025 | F50: =+F8 -> Recaudación 2024 | G50: =+G8 -> Recaudación 2025
...

Sheet Acum
A1: SERVICIO DE RENTAS INTERNAS
A2: RECAUDACIÓN NACIONAL(1)
A3: ENERO - SEPTIEMBRE 2026
A4: -miles de dólares-
A6: (A) TOTAL RECAUDADO (SIN CONSIDERAR VALORES OCASIONALES PARA EFECTOS DE COMPARACIÓN INTERANUAL)
D8: Meta (11) 2026 | F8: Recaudación 2025 | G8: Recaudación 2026 | I8: Participación de la Recaudación 2026
A10: CLASIFICACIÓN | B10: INTERNOS | C10: Impuesto a la Renta Recaudado | D10: ='Ene 2026'!D10+'Feb 2026'!D10+'Mar 2026'!D10+'Abr 2026'!D10+'May 2026'!D10+'Jun 2026'!D10+'Jul 2026'!D10+'Ago 2026'!D10+'Sept 2026'!D10+'Oct 2025'!D10+'Nov2025'!D10+'Dic2025'!D10 -> 6108210.7 | F10: ='Ene 2026'!F10+'Feb 2026'!F10+'Mar 2026'!F10+'Abr 2026'!F10+'May 2026'!F10+'Jun 2026'!F10+'Jul 2026'!F10+'Ago 2026'!F10+'Sept 2026'!F10+'Oct 2025'!F10+'Nov2025'!F10+'Dic2025'!F10 -> 5198682.7 | G10: ='Ene 2026'!G10+'Feb 2026'!G10+'Mar 2026'!G10+'Abr 2026'!G10+'May 2026'!G10+'Jun 2026'!G10+'Jul 2026'!G10+'Ago 2026'!G10+'Sept 2026'!G10+'Oct 2025'!G10+'Nov2025'!G10+'Dic2025'!G10 -> 6334906.9 | I10: =+G32/G41 -> 0.85939795
C11: Retenciones Mensuales (2) | D11: ='Ene 2026'!D11+'Feb 2026'!D11+'Mar 2026'!D11+'Abr 2026'!D11+'May 2026'!D11+'Jun 2026'!D11+'Jul 2026'!D11+'Ago 2026'!D11+'Sept 2026'!D11+'Oct 2025'!D11+'Nov2025'!D11+'Dic2025'!D11 -> 3219844.2 | F11: ='Ene 2026'!F11+'Feb 2026'!F11+'Mar 2026'!F11+'Abr 2026'!F11+'May 2026'!F11+'Jun 2026'!F11+'Jul 2026'!F11+'Ago 2026'!F11+'Sept 2026'!F11+'Oct 2025'!F11+'Nov2025'!F11+'Dic2025'!F11 -> 2689646.3 | G11: ='Ene 2026'!G11+'Feb 2026'!G11+'Mar 2026'!G11+'Abr 2026'!G11+'May 2026'!G11+'Jun 2026'!G11+'Jul 2026'!G11+'Ago 2026'!G11+'Sept 2026'!G11+'Oct 2025'!G11+'Nov2025'!G11+'Dic2025'!G11 -> 3318583.9
C12: Autorretenciones | D12: ='Ene 2026'!D12+'Feb 2026'!D12+'Mar 2026'!D12+'Abr 2026'!D12+'May 2026'!D12+'Jun 2026'!D12+'Jul 2026'!D12+'Ago 2026'!D12+'Sept 2026'!D12+'Oct 2025'!D12+'Nov2025'!D12+'Dic2025'!D12 -> 1764806.2 | F12: ='Ene 2026'!F12+'Feb 2026'!F12+'Mar 2026'!F12+'Abr 2026'!F12+'May 2026'!F12+'Jun 2026'!F12+'Jul 2026'!F12+'Ago 2026'!F12+'Sept 2026'!F12+'Oct 2025'!F12+'Nov2025'!F12+'Dic2025'!F12 -> 1561267.9 | G12: ='Ene 2026'!G12+'Feb 2026'!G12+'Mar 2026'!G12+'Abr 2026'!G12+'May 2026'!G12+'Jun 2026'!G12+'Jul 2026'!G12+'Ago 2026'!G12+'Sept 2026'!G12+'Oct 2025'!G12+'Nov2025'!G12+'Dic2025'!G12 -> 1762561.8
C13: Utilidades no distribuidas(9) | D13: ='Ene 2026'!D13+'Feb 2026'!D13+'Mar 2026'!D13+'Abr 2026'!D13+'May 2026'!D13+'Jun 2026'!D13+'Jul 2026'!D13+'Ago 2026'!D13+'Sept 2026'!D13+'Oct 2025'!D13+'Nov2025'!D13+'Dic2025'!D13 -> 16061.874 | F13: ='Ene 2026'!F13+'Feb 2026'!F13+'Mar 2026'!F13+'Abr 2026'!F13+'May 2026'!F13+'Jun 2026'!F13+'Jul 2026'!F13+'Ago 2026'!F13+'Sept 2026'!F13+'Oct 2025'!F13+'Nov2025'!F13+'Dic2025'!F13 -> 0 | G13: ='Ene 2026'!G13+'Feb 2026'!G13+'Mar 2026'!G13+'Abr 2026'!G13+'May 2026'!G13+'Jun 2026'!G13+'Jul 2026'!G13+'Ago 2026'!G13+'Sept 2026'!G13+'Oct 2025'!G13+'Nov2025'!G13+'Dic2025'!G13 -> 133785.49
C14: Anticipos al IR | D14: ='Ene 2026'!D14+'Feb 2026'!D14+'Mar 2026'!D14+'Abr 2026'!D14+'May 2026'!D14+'Jun 2026'!D14+'Jul 2026'!D14+'Ago 2026'!D14+'Sept 2026'!D14+'Oct 2025'!D14+'Nov2025'!D14+'Dic2025'!D14 -> 331.08787 | F14: ='Ene 2026'!F14+'Feb 2026'!F14+'Mar 2026'!F14+'Abr 2026'!F14+'May 2026'!F14+'Jun 2026'!F14+'Jul 2026'!F14+'Ago 2026'!F14+'Sept 2026'!F14+'Oct 2025'!F14+'Nov2025'!F14+'Dic2025'!F14 -> 509.32545 | G14: ='Ene 2026'!G14+'Feb 2026'!G14+'Mar 2026'!G14+'Abr 2026'!G14+'May 2026'!G14+'Jun 2026'!G14+'Jul 2026'!G14+'Ago 2026'!G14+'Sept 2026'!G14+'Oct 2025'!G14+'Nov2025'!G14+'Dic2025'!G14 -> 511.74039
C15: Declaraciones de Impuesto a la Renta (3) | D15: ='Ene 2026'!D15+'Feb 2026'!D15+'Mar 2026'!D15+'Abr 2026'!D15+'May 2026'!D15+'Jun 2026'!D15+'Jul 2026'!D15+'Ago 2026'!D15+'Sept 2026'!D15+'Oct 2025'!D15+'Nov2025'!D15+'Dic2025'!D15 -> 1107167.4 | F15: ='Ene 2026'!F15+'Feb 2026'!F15+'Mar 2026'!F15+'Abr 2026'!F15+'May 2026'!F15+'Jun 2026'!F15+'Jul 2026'!F15+'Ago 2026'!F15+'Sept 2026'!F15+'Oct 2025'!F15+'Nov2025'!F15+'Dic2025'!F15 -> 947259.17 | G15: ='Ene 2026'!G15+'Feb 2026'!G15+'Mar 2026'!G15+'Abr 2026'!G15+'May 2026'!G15+'Jun 2026'!G15+'Jul 2026'!G15+'Ago 2026'!G15+'Sept 2026'!G15+'Oct 2025'!G15+'Nov2025'!G15+'Dic2025'!G15 -> 1119464.1
C16: Personas Naturales | D16: ='Ene 2026'!D16+'Feb 2026'!D16+'Mar 2026'!D16+'Abr 2026'!D16+'May 2026'!D16+'Jun 2026'!D16+'Jul 2026'!D16+'Ago 2026'!D16+'Sept 2026'!D16+'Oct 2025'!D16+'Nov2025'!D16+'Dic2025'!D16 -> 260663.98 | F16: ='Ene 2026'!F16+'Feb 2026'!F16+'Mar 2026'!F16+'Abr 2026'!F16+'May 2026'!F16+'Jun 2026'!F16+'Jul 2026'!F16+'Ago 2026'!F16+'Sept 2026'!F16+'Oct 2025'!F16+'Nov2025'!F16+'Dic2025'!F16 -> 235333.26 | G16: ='Ene 2026'!G16+'Feb 2026'!G16+'Mar 2026'!G16+'Abr 2026'!G16+'May 2026'!G16+'Jun 2026'!G16+'Jul 2026'!G16+'Ago 2026'!G16+'Sept 2026'!G16+'Oct 2025'!G16+'Nov2025'!G16+'Dic2025'!G16 -> 259694.96
C17: Personas Jurídicas | D17: ='Ene 2026'!D17+'Feb 2026'!D17+'Mar 2026'!D17+'Abr 2026'!D17+'May 2026'!D17+'Jun 2026'!D17+'Jul 2026'!D17+'Ago 2026'!D17+'Sept 2026'!D17+'Oct 2025'!D17+'Nov2025'!D17+'Dic2025'!D17 -> 828618.9 | F17: ='Ene 2026'!F17+'Feb 2026'!F17+'Mar 2026'!F17+'Abr 2026'!F17+'May 2026'!F17+'Jun 2026'!F17+'Jul 2026'!F17+'Ago 2026'!F17+'Sept 2026'!F17+'Oct 2025'!F17+'Nov2025'!F17+'Dic2025'!F17 -> 690553.65 | G17: ='Ene 2026'!G17+'Feb 2026'!G17+'Mar 2026'!G17+'Abr 2026'!G17+'May 2026'!G17+'Jun 2026'!G17+'Jul 2026'!G17+'Ago 2026'!G17+'Sept 2026'!G17+'Oct 2025'!G17+'Nov2025'!G17+'Dic2025'!G17 -> 838789.12
C18: Herencias, Legados y Donaciones | D18: ='Ene 2026'!D18+'Feb 2026'!D18+'Mar 2026'!D18+'Abr 2026'!D18+'May 2026'!D18+'Jun 2026'!D18+'Jul 2026'!D18+'Ago 2026'!D18+'Sept 2026'!D18+'Oct 2025'!D18+'Nov2025'!D18+'Dic2025'!D18 -> 17551.998 | F18: ='Ene 2026'!F18+'Feb 2026'!F18+'Mar 2026'!F18+'Abr 2026'!F18+'May 2026'!F18+'Jun 2026'!F18+'Jul 2026'!F18+'Ago 2026'!F18+'Sept 2026'!F18+'Oct 2025'!F18+'Nov2025'!F18+'Dic2025'!F18 -> 20879.492 | G18: ='Ene 2026'!G18+'Feb 2026'!G18+'Mar 2026'!G18+'Abr 2026'!G18+'May 2026'!G18+'Jun 2026'!G18+'Jul 2026'!G18+'Ago 2026'!G18+'Sept 2026'!G18+'Oct 2025'!G18+'Nov2025'!G18+'Dic2025'!G18 -> 20581.395
C19: Microempresas | D19: ='Ene 2026'!D19+'Feb 2026'!D19+'Mar 2026'!D19+'Abr 2026'!D19+'May 2026'!D19+'Jun 2026'!D19+'Jul 2026'!D19+'Ago 2026'!D19+'Sept 2026'!D19+'Oct 2025'!D19+'Nov2025'!D19+'Dic2025'!D19 -> 332.47311 | F19: ='Ene 2026'!F19+'Feb 2026'!F19+'Mar 2026'!F19+'Abr 2026'!F19+'May 2026'!F19+'Jun 2026'!F19+'Jul 2026'!F19+'Ago 2026'!F19+'Sept 2026'!F19+'Oct 2025'!F19+'Nov2025'!F19+'Dic2025'!F19 -> 492.55065 | G19: ='Ene 2026'!G19+'Feb 2026'!G19+'Mar 2026'!G19+'Abr 2026'!G19+'May 2026'!G19+'Jun 2026'!G19+'Jul 2026'!G19+'Ago 2026'!G19+'Sept 2026'!G19+'Oct 2025'!G19+'Nov2025'!G19+'Dic2025'!G19 -> 398.57393
